BEGIN:VCALENDAR
VERSION:2.0
PRODID:-//Kunst og Håndværk i Buerup - ECPv6.15.17//NONSGML v1.0//EN
CALSCALE:GREGORIAN
METHOD:PUBLISH
X-ORIGINAL-URL:https://xn--kunstoghndvrk-wfbs.dk
X-WR-CALDESC:Begivenheder for Kunst og Håndværk i Buerup
REFRESH-INTERVAL;VALUE=DURATION:PT1H
X-Robots-Tag:noindex
X-PUBLISHED-TTL:PT1H
BEGIN:VTIMEZONE
TZID:Europe/Copenhagen
BEGIN:DAYLIGHT
TZOFFSETFROM:+0100
TZOFFSETTO:+0200
TZNAME:CEST
DTSTART:20250330T010000
END:DAYLIGHT
BEGIN:STANDARD
TZOFFSETFROM:+0200
TZOFFSETTO:+0100
TZNAME:CET
DTSTART:20251026T010000
END:STANDARD
BEGIN:DAYLIGHT
TZOFFSETFROM:+0100
TZOFFSETTO:+0200
TZNAME:CEST
DTSTART:20260329T010000
END:DAYLIGHT
BEGIN:STANDARD
TZOFFSETFROM:+0200
TZOFFSETTO:+0100
TZNAME:CET
DTSTART:20261025T010000
END:STANDARD
BEGIN:DAYLIGHT
TZOFFSETFROM:+0100
TZOFFSETTO:+0200
TZNAME:CEST
DTSTART:20270328T010000
END:DAYLIGHT
BEGIN:STANDARD
TZOFFSETFROM:+0200
TZOFFSETTO:+0100
TZNAME:CET
DTSTART:20271031T010000
END:STANDARD
END:VTIMEZONE
BEGIN:VEVENT
DTSTART;TZID=Europe/Copenhagen:20260201T110000
DTEND;TZID=Europe/Copenhagen:20260201T160000
DTSTAMP:20260420T103523
CREATED:20260127T094039Z
LAST-MODIFIED:20260127T094240Z
UID:3551-1769943600-1769961600@xn--kunstoghndvrk-wfbs.dk
SUMMARY:Jytte Norddal
DESCRIPTION:
URL:https://xn--kunstoghndvrk-wfbs.dk/vagt/jytte-norddal/
LOCATION:Kunst og Håndværk i Buerup\, Buerupvej 20\, Jyderup\, 4450\, Denmark
CATEGORIES:Vagter
END:VEVENT
BEGIN:VEVENT
DTSTART;TZID=Europe/Copenhagen:20260204T140000
DTEND;TZID=Europe/Copenhagen:20260204T170000
DTSTAMP:20260420T103523
CREATED:20260127T124820Z
LAST-MODIFIED:20260127T124820Z
UID:3649-1770213600-1770224400@xn--kunstoghndvrk-wfbs.dk
SUMMARY:Fællesmøde
DESCRIPTION:
URL:https://xn--kunstoghndvrk-wfbs.dk/vagt/faellesmoede/
CATEGORIES:Noter til dagen
END:VEVENT
BEGIN:VEVENT
DTSTART;TZID=Europe/Copenhagen:20260205T110000
DTEND;TZID=Europe/Copenhagen:20260205T160000
DTSTAMP:20260420T103523
CREATED:20260127T094217Z
LAST-MODIFIED:20260127T094217Z
UID:3554-1770289200-1770307200@xn--kunstoghndvrk-wfbs.dk
SUMMARY:Kirsten Tøj
DESCRIPTION:
URL:https://xn--kunstoghndvrk-wfbs.dk/vagt/kirsten-toej/
LOCATION:Kunst og Håndværk i Buerup\, Buerupvej 20\, Jyderup\, 4450\, Denmark
CATEGORIES:Vagter
END:VEVENT
BEGIN:VEVENT
DTSTART;TZID=Europe/Copenhagen:20260205T110000
DTEND;TZID=Europe/Copenhagen:20260205T160000
DTSTAMP:20260420T103523
CREATED:20260127T100441Z
LAST-MODIFIED:20260127T101347Z
UID:3579-1770289200-1770307200@xn--kunstoghndvrk-wfbs.dk
SUMMARY:Maria Pil
DESCRIPTION:
URL:https://xn--kunstoghndvrk-wfbs.dk/vagt/maria-pil/
LOCATION:Kunst og Håndværk i Buerup\, Buerupvej 20\, Jyderup\, 4450\, Denmark
CATEGORIES:Vagter
END:VEVENT
BEGIN:VEVENT
DTSTART;TZID=Europe/Copenhagen:20260206T110000
DTEND;TZID=Europe/Copenhagen:20260206T160000
DTSTAMP:20260420T103523
CREATED:20260127T100532Z
LAST-MODIFIED:20260127T100532Z
UID:3581-1770375600-1770393600@xn--kunstoghndvrk-wfbs.dk
SUMMARY:Grethe Vesti
DESCRIPTION:
URL:https://xn--kunstoghndvrk-wfbs.dk/vagt/grethe-vesti-2/
LOCATION:Kunst og Håndværk i Buerup\, Buerupvej 20\, Jyderup\, 4450\, Denmark
CATEGORIES:Vagter
END:VEVENT
BEGIN:VEVENT
DTSTART;TZID=Europe/Copenhagen:20260206T110000
DTEND;TZID=Europe/Copenhagen:20260206T160000
DTSTAMP:20260420T103523
CREATED:20260127T100630Z
LAST-MODIFIED:20260127T100630Z
UID:3583-1770375600-1770393600@xn--kunstoghndvrk-wfbs.dk
SUMMARY:Solveig
DESCRIPTION:
URL:https://xn--kunstoghndvrk-wfbs.dk/vagt/solveig-2/
LOCATION:Kunst og Håndværk i Buerup\, Buerupvej 20\, Jyderup\, 4450\, Denmark
CATEGORIES:Vagter
END:VEVENT
BEGIN:VEVENT
DTSTART;TZID=Europe/Copenhagen:20260207T110000
DTEND;TZID=Europe/Copenhagen:20260207T160000
DTSTAMP:20260420T103523
CREATED:20260127T100722Z
LAST-MODIFIED:20260127T100722Z
UID:3585-1770462000-1770480000@xn--kunstoghndvrk-wfbs.dk
SUMMARY:Karen
DESCRIPTION:
URL:https://xn--kunstoghndvrk-wfbs.dk/vagt/karen-3/
LOCATION:Kunst og Håndværk i Buerup\, Buerupvej 20\, Jyderup\, 4450\, Denmark
CATEGORIES:Vagter
END:VEVENT
BEGIN:VEVENT
DTSTART;TZID=Europe/Copenhagen:20260208T110000
DTEND;TZID=Europe/Copenhagen:20260208T160000
DTSTAMP:20260420T103523
CREATED:20260127T100802Z
LAST-MODIFIED:20260127T100802Z
UID:3587-1770548400-1770566400@xn--kunstoghndvrk-wfbs.dk
SUMMARY:Solveig
DESCRIPTION:
URL:https://xn--kunstoghndvrk-wfbs.dk/vagt/solveig-3/
LOCATION:Kunst og Håndværk i Buerup\, Buerupvej 20\, Jyderup\, 4450\, Denmark
CATEGORIES:Vagter
END:VEVENT
BEGIN:VEVENT
DTSTART;TZID=Europe/Copenhagen:20260208T110000
DTEND;TZID=Europe/Copenhagen:20260208T160000
DTSTAMP:20260420T103523
CREATED:20260127T101043Z
LAST-MODIFIED:20260127T101043Z
UID:3589-1770548400-1770566400@xn--kunstoghndvrk-wfbs.dk
SUMMARY:Vivis Hæklerier
DESCRIPTION:
URL:https://xn--kunstoghndvrk-wfbs.dk/vagt/vivis-haeklerier-2/
LOCATION:Kunst og Håndværk i Buerup\, Buerupvej 20\, Jyderup\, 4450\, Denmark
CATEGORIES:Vagter
END:VEVENT
BEGIN:VEVENT
DTSTART;TZID=Europe/Copenhagen:20260212T110000
DTEND;TZID=Europe/Copenhagen:20260212T160000
DTSTAMP:20260420T103523
CREATED:20260127T101129Z
LAST-MODIFIED:20260127T101129Z
UID:3591-1770894000-1770912000@xn--kunstoghndvrk-wfbs.dk
SUMMARY:Karen
DESCRIPTION:
URL:https://xn--kunstoghndvrk-wfbs.dk/vagt/karen-4/
LOCATION:Kunst og Håndværk i Buerup\, Buerupvej 20\, Jyderup\, 4450\, Denmark
CATEGORIES:Vagter
END:VEVENT
BEGIN:VEVENT
DTSTART;TZID=Europe/Copenhagen:20260212T110000
DTEND;TZID=Europe/Copenhagen:20260212T160000
DTSTAMP:20260420T103523
CREATED:20260127T101246Z
LAST-MODIFIED:20260127T101246Z
UID:3593-1770894000-1770912000@xn--kunstoghndvrk-wfbs.dk
SUMMARY:Maria Pil
DESCRIPTION:
URL:https://xn--kunstoghndvrk-wfbs.dk/vagt/maria-pil-2/
LOCATION:Kunst og Håndværk i Buerup\, Buerupvej 20\, Jyderup\, 4450\, Denmark
CATEGORIES:Vagter
END:VEVENT
BEGIN:VEVENT
DTSTART;TZID=Europe/Copenhagen:20260213T110000
DTEND;TZID=Europe/Copenhagen:20260213T160000
DTSTAMP:20260420T103523
CREATED:20260127T101427Z
LAST-MODIFIED:20260127T101427Z
UID:3596-1770980400-1770998400@xn--kunstoghndvrk-wfbs.dk
SUMMARY:Kirsten tøj
DESCRIPTION:
URL:https://xn--kunstoghndvrk-wfbs.dk/vagt/kirsten-toej-2/
LOCATION:Kunst og Håndværk i Buerup\, Buerupvej 20\, Jyderup\, 4450\, Denmark
CATEGORIES:Vagter
END:VEVENT
BEGIN:VEVENT
DTSTART;TZID=Europe/Copenhagen:20260213T110000
DTEND;TZID=Europe/Copenhagen:20260213T160000
DTSTAMP:20260420T103523
CREATED:20260127T101510Z
LAST-MODIFIED:20260127T101510Z
UID:3598-1770980400-1770998400@xn--kunstoghndvrk-wfbs.dk
SUMMARY:Vivis hæklerier
DESCRIPTION:
URL:https://xn--kunstoghndvrk-wfbs.dk/vagt/vivis-haeklerier-3/
LOCATION:Kunst og Håndværk i Buerup\, Buerupvej 20\, Jyderup\, 4450\, Denmark
CATEGORIES:Vagter
END:VEVENT
BEGIN:VEVENT
DTSTART;TZID=Europe/Copenhagen:20260214T110000
DTEND;TZID=Europe/Copenhagen:20260214T160000
DTSTAMP:20260420T103523
CREATED:20260127T101549Z
LAST-MODIFIED:20260127T101549Z
UID:3600-1771066800-1771084800@xn--kunstoghndvrk-wfbs.dk
SUMMARY:Grethe Vesti
DESCRIPTION:
URL:https://xn--kunstoghndvrk-wfbs.dk/vagt/grethe-vesti-3/
LOCATION:Kunst og Håndværk i Buerup\, Buerupvej 20\, Jyderup\, 4450\, Denmark
CATEGORIES:Vagter
END:VEVENT
BEGIN:VEVENT
DTSTART;TZID=Europe/Copenhagen:20260214T110000
DTEND;TZID=Europe/Copenhagen:20260214T160000
DTSTAMP:20260420T103523
CREATED:20260127T101626Z
LAST-MODIFIED:20260127T101626Z
UID:3602-1771066800-1771084800@xn--kunstoghndvrk-wfbs.dk
SUMMARY:Jytte Norddal
DESCRIPTION:
URL:https://xn--kunstoghndvrk-wfbs.dk/vagt/jytte-norddal-3/
LOCATION:Kunst og Håndværk i Buerup\, Buerupvej 20\, Jyderup\, 4450\, Denmark
CATEGORIES:Vagter
END:VEVENT
BEGIN:VEVENT
DTSTART;TZID=Europe/Copenhagen:20260214T110000
DTEND;TZID=Europe/Copenhagen:20260214T160000
DTSTAMP:20260420T103523
CREATED:20260127T125526Z
LAST-MODIFIED:20260208T075442Z
UID:3653-1771066800-1771084800@xn--kunstoghndvrk-wfbs.dk
SUMMARY:Vallentinsdag
DESCRIPTION:
URL:https://xn--kunstoghndvrk-wfbs.dk/vagt/vallentinsdag/
CATEGORIES:Noter til dagen
END:VEVENT
BEGIN:VEVENT
DTSTART;TZID=Europe/Copenhagen:20260215T110000
DTEND;TZID=Europe/Copenhagen:20260215T160000
DTSTAMP:20260420T103523
CREATED:20260127T101659Z
LAST-MODIFIED:20260127T101659Z
UID:3604-1771153200-1771171200@xn--kunstoghndvrk-wfbs.dk
SUMMARY:Solveig
DESCRIPTION:
URL:https://xn--kunstoghndvrk-wfbs.dk/vagt/solveig-4/
LOCATION:Kunst og Håndværk i Buerup\, Buerupvej 20\, Jyderup\, 4450\, Denmark
CATEGORIES:Vagter
END:VEVENT
BEGIN:VEVENT
DTSTART;TZID=Europe/Copenhagen:20260215T110000
DTEND;TZID=Europe/Copenhagen:20260215T160000
DTSTAMP:20260420T103523
CREATED:20260127T125819Z
LAST-MODIFIED:20260127T125819Z
UID:3655-1771153200-1771171200@xn--kunstoghndvrk-wfbs.dk
SUMMARY:Fastelavn
DESCRIPTION:
URL:https://xn--kunstoghndvrk-wfbs.dk/vagt/fastelavn/
CATEGORIES:Noter til dagen
END:VEVENT
BEGIN:VEVENT
DTSTART;TZID=Europe/Copenhagen:20260215T110000
DTEND;TZID=Europe/Copenhagen:20260215T160000
DTSTAMP:20260420T103523
CREATED:20260210T110926Z
LAST-MODIFIED:20260210T111622Z
UID:3749-1771153200-1771171200@xn--kunstoghndvrk-wfbs.dk
SUMMARY:Leyla
DESCRIPTION:
URL:https://xn--kunstoghndvrk-wfbs.dk/vagt/leyla/
LOCATION:Kunst og Håndværk i Buerup\, Buerupvej 20\, Jyderup\, 4450\, Denmark
CATEGORIES:Vagter
END:VEVENT
BEGIN:VEVENT
DTSTART;TZID=Europe/Copenhagen:20260219T110000
DTEND;TZID=Europe/Copenhagen:20260219T160000
DTSTAMP:20260420T103523
CREATED:20260127T101753Z
LAST-MODIFIED:20260127T101753Z
UID:3606-1771498800-1771516800@xn--kunstoghndvrk-wfbs.dk
SUMMARY:Karen
DESCRIPTION:
URL:https://xn--kunstoghndvrk-wfbs.dk/vagt/karen-5/
LOCATION:Kunst og Håndværk i Buerup\, Buerupvej 20\, Jyderup\, 4450\, Denmark
CATEGORIES:Vagter
END:VEVENT
BEGIN:VEVENT
DTSTART;TZID=Europe/Copenhagen:20260219T110000
DTEND;TZID=Europe/Copenhagen:20260219T160000
DTSTAMP:20260420T103523
CREATED:20260127T101824Z
LAST-MODIFIED:20260127T101824Z
UID:3608-1771498800-1771516800@xn--kunstoghndvrk-wfbs.dk
SUMMARY:Kirsten tøj
DESCRIPTION:
URL:https://xn--kunstoghndvrk-wfbs.dk/vagt/kirsten-toej-3/
LOCATION:Kunst og Håndværk i Buerup\, Buerupvej 20\, Jyderup\, 4450\, Denmark
CATEGORIES:Vagter
END:VEVENT
BEGIN:VEVENT
DTSTART;TZID=Europe/Copenhagen:20260220T110000
DTEND;TZID=Europe/Copenhagen:20260220T160000
DTSTAMP:20260420T103523
CREATED:20260127T101907Z
LAST-MODIFIED:20260127T101907Z
UID:3610-1771585200-1771603200@xn--kunstoghndvrk-wfbs.dk
SUMMARY:Grethe Vesti
DESCRIPTION:
URL:https://xn--kunstoghndvrk-wfbs.dk/vagt/grethe-vesti-4/
LOCATION:Kunst og Håndværk i Buerup\, Buerupvej 20\, Jyderup\, 4450\, Denmark
CATEGORIES:Vagter
END:VEVENT
BEGIN:VEVENT
DTSTART;TZID=Europe/Copenhagen:20260220T110000
DTEND;TZID=Europe/Copenhagen:20260220T160000
DTSTAMP:20260420T103523
CREATED:20260127T101957Z
LAST-MODIFIED:20260127T101957Z
UID:3612-1771585200-1771603200@xn--kunstoghndvrk-wfbs.dk
SUMMARY:Vivis hæklerier
DESCRIPTION:
URL:https://xn--kunstoghndvrk-wfbs.dk/vagt/vivis-haeklerier-4/
LOCATION:Kunst og Håndværk i Buerup\, Buerupvej 20\, Jyderup\, 4450\, Denmark
END:VEVENT
BEGIN:VEVENT
DTSTART;TZID=Europe/Copenhagen:20260220T110000
DTEND;TZID=Europe/Copenhagen:20260220T160000
DTSTAMP:20260420T103523
CREATED:20260210T113321Z
LAST-MODIFIED:20260215T110311Z
UID:3751-1771585200-1771603200@xn--kunstoghndvrk-wfbs.dk
SUMMARY:leyla strik
DESCRIPTION:
URL:https://xn--kunstoghndvrk-wfbs.dk/vagt/leyla-2/
CATEGORIES:Vagter
END:VEVENT
BEGIN:VEVENT
DTSTART;TZID=Europe/Copenhagen:20260220T110000
DTEND;TZID=Europe/Copenhagen:20260220T160000
DTSTAMP:20260420T103523
CREATED:20260217T172907Z
LAST-MODIFIED:20260217T172907Z
UID:3929-1771585200-1771603200@xn--kunstoghndvrk-wfbs.dk
SUMMARY:Vivi  Hæklerier
DESCRIPTION:
URL:https://xn--kunstoghndvrk-wfbs.dk/vagt/vivi-haeklerier-4/
CATEGORIES:Vagter
END:VEVENT
BEGIN:VEVENT
DTSTART;TZID=Europe/Copenhagen:20260221T110000
DTEND;TZID=Europe/Copenhagen:20260221T160000
DTSTAMP:20260420T103523
CREATED:20260127T102045Z
LAST-MODIFIED:20260127T102045Z
UID:3614-1771671600-1771689600@xn--kunstoghndvrk-wfbs.dk
SUMMARY:Jytte Norddal
DESCRIPTION:
URL:https://xn--kunstoghndvrk-wfbs.dk/vagt/jytte-norddal-4/
LOCATION:Kunst og Håndværk i Buerup\, Buerupvej 20\, Jyderup\, 4450\, Denmark
CATEGORIES:Vagter
END:VEVENT
BEGIN:VEVENT
DTSTART;TZID=Europe/Copenhagen:20260221T110000
DTEND;TZID=Europe/Copenhagen:20260221T160000
DTSTAMP:20260420T103523
CREATED:20260127T102121Z
LAST-MODIFIED:20260127T102121Z
UID:3616-1771671600-1771689600@xn--kunstoghndvrk-wfbs.dk
SUMMARY:Solveig
DESCRIPTION:
URL:https://xn--kunstoghndvrk-wfbs.dk/vagt/solveig-5/
LOCATION:Kunst og Håndværk i Buerup\, Buerupvej 20\, Jyderup\, 4450\, Denmark
CATEGORIES:Vagter
END:VEVENT
BEGIN:VEVENT
DTSTART;TZID=Europe/Copenhagen:20260222T110000
DTEND;TZID=Europe/Copenhagen:20260222T160000
DTSTAMP:20260420T103523
CREATED:20260127T102157Z
LAST-MODIFIED:20260127T102545Z
UID:3618-1771758000-1771776000@xn--kunstoghndvrk-wfbs.dk
SUMMARY:Grethe Vesti
DESCRIPTION:
URL:https://xn--kunstoghndvrk-wfbs.dk/vagt/grethe-vesti-5/
LOCATION:Kunst og Håndværk i Buerup\, Buerupvej 20\, Jyderup\, 4450\, Denmark
CATEGORIES:Vagter
END:VEVENT
BEGIN:VEVENT
DTSTART;TZID=Europe/Copenhagen:20260222T110000
DTEND;TZID=Europe/Copenhagen:20260222T160000
DTSTAMP:20260420T103523
CREATED:20260127T102617Z
LAST-MODIFIED:20260127T102617Z
UID:3620-1771758000-1771776000@xn--kunstoghndvrk-wfbs.dk
SUMMARY:Jytte Norddal
DESCRIPTION:
URL:https://xn--kunstoghndvrk-wfbs.dk/vagt/jytte-norddal-5/
LOCATION:Kunst og Håndværk i Buerup\, Buerupvej 20\, Jyderup\, 4450\, Denmark
CATEGORIES:Vagter
END:VEVENT
BEGIN:VEVENT
DTSTART;TZID=Europe/Copenhagen:20260226T110000
DTEND;TZID=Europe/Copenhagen:20260226T160000
DTSTAMP:20260420T103523
CREATED:20260127T102658Z
LAST-MODIFIED:20260127T102815Z
UID:3622-1772103600-1772121600@xn--kunstoghndvrk-wfbs.dk
SUMMARY:Karen
DESCRIPTION:
URL:https://xn--kunstoghndvrk-wfbs.dk/vagt/karen-6/
LOCATION:Kunst og Håndværk i Buerup\, Buerupvej 20\, Jyderup\, 4450\, Denmark
CATEGORIES:Vagter
END:VEVENT
END:VCALENDAR