BEGIN:VCALENDAR
VERSION:2.0
PRODID:-//Kunst og Håndværk i Buerup - ECPv6.15.17//NONSGML v1.0//EN
CALSCALE:GREGORIAN
METHOD:PUBLISH
X-WR-CALNAME:Kunst og Håndværk i Buerup
X-ORIGINAL-URL:https://xn--kunstoghndvrk-wfbs.dk
X-WR-CALDESC:Begivenheder for Kunst og Håndværk i Buerup
REFRESH-INTERVAL;VALUE=DURATION:PT1H
X-Robots-Tag:noindex
X-PUBLISHED-TTL:PT1H
BEGIN:VTIMEZONE
TZID:Europe/Copenhagen
BEGIN:DAYLIGHT
TZOFFSETFROM:+0100
TZOFFSETTO:+0200
TZNAME:CEST
DTSTART:20250330T010000
END:DAYLIGHT
BEGIN:STANDARD
TZOFFSETFROM:+0200
TZOFFSETTO:+0100
TZNAME:CET
DTSTART:20251026T010000
END:STANDARD
BEGIN:DAYLIGHT
TZOFFSETFROM:+0100
TZOFFSETTO:+0200
TZNAME:CEST
DTSTART:20260329T010000
END:DAYLIGHT
BEGIN:STANDARD
TZOFFSETFROM:+0200
TZOFFSETTO:+0100
TZNAME:CET
DTSTART:20261025T010000
END:STANDARD
BEGIN:DAYLIGHT
TZOFFSETFROM:+0100
TZOFFSETTO:+0200
TZNAME:CEST
DTSTART:20270328T010000
END:DAYLIGHT
BEGIN:STANDARD
TZOFFSETFROM:+0200
TZOFFSETTO:+0100
TZNAME:CET
DTSTART:20271031T010000
END:STANDARD
END:VTIMEZONE
BEGIN:VEVENT
DTSTART;TZID=Europe/Copenhagen:20260611T110000
DTEND;TZID=Europe/Copenhagen:20260611T160000
DTSTAMP:20260422T120223
CREATED:20260214T124007Z
LAST-MODIFIED:20260214T124007Z
UID:3859-1781175600-1781193600@xn--kunstoghndvrk-wfbs.dk
SUMMARY:Kirsten Tøj
DESCRIPTION:
URL:https://xn--kunstoghndvrk-wfbs.dk/vagt/kirsten-toej-17/
CATEGORIES:Vagter
END:VEVENT
BEGIN:VEVENT
DTSTART;TZID=Europe/Copenhagen:20260611T110000
DTEND;TZID=Europe/Copenhagen:20260611T160000
DTSTAMP:20260422T120223
CREATED:20260420T085519Z
LAST-MODIFIED:20260420T085519Z
UID:4211-1781175600-1781193600@xn--kunstoghndvrk-wfbs.dk
SUMMARY:grethe
DESCRIPTION:
URL:https://xn--kunstoghndvrk-wfbs.dk/vagt/grethe-13/
LOCATION:Kunst og Håndværk i Buerup\, Buerupvej 20\, Jyderup\, 4450\, Denmark
CATEGORIES:Vagter
END:VEVENT
BEGIN:VEVENT
DTSTART;TZID=Europe/Copenhagen:20260613T110000
DTEND;TZID=Europe/Copenhagen:20260613T160000
DTSTAMP:20260422T120223
CREATED:20260420T085628Z
LAST-MODIFIED:20260420T085628Z
UID:4213-1781348400-1781366400@xn--kunstoghndvrk-wfbs.dk
SUMMARY:grethe
DESCRIPTION:
URL:https://xn--kunstoghndvrk-wfbs.dk/vagt/grethe-14/
LOCATION:Kunst og Håndværk i Buerup\, Buerupvej 20\, Jyderup\, 4450\, Denmark
CATEGORIES:Vagter
END:VEVENT
BEGIN:VEVENT
DTSTART;TZID=Europe/Copenhagen:20260619T110000
DTEND;TZID=Europe/Copenhagen:20260619T160000
DTSTAMP:20260422T120223
CREATED:20260214T124104Z
LAST-MODIFIED:20260214T124104Z
UID:3861-1781866800-1781884800@xn--kunstoghndvrk-wfbs.dk
SUMMARY:Kirsten Tøj
DESCRIPTION:
URL:https://xn--kunstoghndvrk-wfbs.dk/vagt/kirsten-toej-18/
CATEGORIES:Vagter
END:VEVENT
BEGIN:VEVENT
DTSTART;TZID=Europe/Copenhagen:20260621T110000
DTEND;TZID=Europe/Copenhagen:20260621T160000
DTSTAMP:20260422T120223
CREATED:20260420T085713Z
LAST-MODIFIED:20260420T085713Z
UID:4215-1782039600-1782057600@xn--kunstoghndvrk-wfbs.dk
SUMMARY:grethe
DESCRIPTION:
URL:https://xn--kunstoghndvrk-wfbs.dk/vagt/grethe-15/
LOCATION:Kunst og Håndværk i Buerup\, Buerupvej 20\, Jyderup\, 4450\, Denmark
CATEGORIES:Vagter
END:VEVENT
BEGIN:VEVENT
DTSTART;TZID=Europe/Copenhagen:20260626T110000
DTEND;TZID=Europe/Copenhagen:20260626T160000
DTSTAMP:20260422T120223
CREATED:20260420T085753Z
LAST-MODIFIED:20260420T085753Z
UID:4217-1782471600-1782489600@xn--kunstoghndvrk-wfbs.dk
SUMMARY:grethe
DESCRIPTION:
URL:https://xn--kunstoghndvrk-wfbs.dk/vagt/grethe-16/
LOCATION:Kunst og Håndværk i Buerup\, Buerupvej 20\, Jyderup\, 4450\, Denmark
CATEGORIES:Vagter
END:VEVENT
BEGIN:VEVENT
DTSTART;TZID=Europe/Copenhagen:20260627T110000
DTEND;TZID=Europe/Copenhagen:20260627T160000
DTSTAMP:20260422T120223
CREATED:20260214T124218Z
LAST-MODIFIED:20260214T124218Z
UID:3863-1782558000-1782576000@xn--kunstoghndvrk-wfbs.dk
SUMMARY:Kirsten Tøj
DESCRIPTION:
URL:https://xn--kunstoghndvrk-wfbs.dk/vagt/kirsten-toej-19/
CATEGORIES:Vagter
END:VEVENT
END:VCALENDAR