BEGIN:VCALENDAR
VERSION:2.0
PRODID:-//Kunst og Håndværk i Buerup - ECPv6.15.17//NONSGML v1.0//EN
CALSCALE:GREGORIAN
METHOD:PUBLISH
X-ORIGINAL-URL:https://xn--kunstoghndvrk-wfbs.dk
X-WR-CALDESC:Begivenheder for Kunst og Håndværk i Buerup
REFRESH-INTERVAL;VALUE=DURATION:PT1H
X-Robots-Tag:noindex
X-PUBLISHED-TTL:PT1H
BEGIN:VTIMEZONE
TZID:Europe/Copenhagen
BEGIN:DAYLIGHT
TZOFFSETFROM:+0100
TZOFFSETTO:+0200
TZNAME:CEST
DTSTART:20250330T010000
END:DAYLIGHT
BEGIN:STANDARD
TZOFFSETFROM:+0200
TZOFFSETTO:+0100
TZNAME:CET
DTSTART:20251026T010000
END:STANDARD
BEGIN:DAYLIGHT
TZOFFSETFROM:+0100
TZOFFSETTO:+0200
TZNAME:CEST
DTSTART:20260329T010000
END:DAYLIGHT
BEGIN:STANDARD
TZOFFSETFROM:+0200
TZOFFSETTO:+0100
TZNAME:CET
DTSTART:20261025T010000
END:STANDARD
BEGIN:DAYLIGHT
TZOFFSETFROM:+0100
TZOFFSETTO:+0200
TZNAME:CEST
DTSTART:20270328T010000
END:DAYLIGHT
BEGIN:STANDARD
TZOFFSETFROM:+0200
TZOFFSETTO:+0100
TZNAME:CET
DTSTART:20271031T010000
END:STANDARD
END:VTIMEZONE
BEGIN:VEVENT
DTSTART;TZID=Europe/Copenhagen:20260501T110000
DTEND;TZID=Europe/Copenhagen:20260501T160000
DTSTAMP:20260422T104907
CREATED:20260309T092909Z
LAST-MODIFIED:20260309T092909Z
UID:4035-1777633200-1777651200@xn--kunstoghndvrk-wfbs.dk
SUMMARY:grethe
DESCRIPTION:
URL:https://xn--kunstoghndvrk-wfbs.dk/vagt/grethe-4/
LOCATION:Kunst og Håndværk i Buerup\, Buerupvej 20\, Jyderup\, 4450\, Denmark
CATEGORIES:Vagter
END:VEVENT
BEGIN:VEVENT
DTSTART;TZID=Europe/Copenhagen:20260501T110000
DTEND;TZID=Europe/Copenhagen:20260501T160000
DTSTAMP:20260422T104907
CREATED:20260317T190925Z
LAST-MODIFIED:20260317T190925Z
UID:4079-1777633200-1777651200@xn--kunstoghndvrk-wfbs.dk
SUMMARY:Solveig-macrame
DESCRIPTION:
URL:https://xn--kunstoghndvrk-wfbs.dk/vagt/solveig-macrame-5/
CATEGORIES:Vagter
END:VEVENT
BEGIN:VEVENT
DTSTART;TZID=Europe/Copenhagen:20260502T110000
DTEND;TZID=Europe/Copenhagen:20260502T160000
DTSTAMP:20260422T104907
CREATED:20260407T154128Z
LAST-MODIFIED:20260407T154128Z
UID:4173-1777719600-1777737600@xn--kunstoghndvrk-wfbs.dk
SUMMARY:Vivi  Hæklerier
DESCRIPTION:
URL:https://xn--kunstoghndvrk-wfbs.dk/vagt/vivi-haeklerier-3/
CATEGORIES:Vagter
END:VEVENT
BEGIN:VEVENT
DTSTART;TZID=Europe/Copenhagen:20260503T110000
DTEND;TZID=Europe/Copenhagen:20260503T160000
DTSTAMP:20260422T104907
CREATED:20260330T101628Z
LAST-MODIFIED:20260330T101628Z
UID:4152-1777806000-1777824000@xn--kunstoghndvrk-wfbs.dk
SUMMARY:Jytte
DESCRIPTION:
URL:https://xn--kunstoghndvrk-wfbs.dk/vagt/jytte-2/
LOCATION:Kunst og Håndværk i Buerup\, Buerupvej 20\, Jyderup\, 4450\, Denmark
CATEGORIES:Vagter
END:VEVENT
BEGIN:VEVENT
DTSTART;TZID=Europe/Copenhagen:20260507T110000
DTEND;TZID=Europe/Copenhagen:20260507T160000
DTSTAMP:20260422T104907
CREATED:20260214T123622Z
LAST-MODIFIED:20260214T123622Z
UID:3851-1778151600-1778169600@xn--kunstoghndvrk-wfbs.dk
SUMMARY:Kirsten Tøj
DESCRIPTION:
URL:https://xn--kunstoghndvrk-wfbs.dk/vagt/kirsten-toej-13/
CATEGORIES:Vagter
END:VEVENT
BEGIN:VEVENT
DTSTART;TZID=Europe/Copenhagen:20260508T110000
DTEND;TZID=Europe/Copenhagen:20260508T160000
DTSTAMP:20260422T104907
CREATED:20260322T160252Z
LAST-MODIFIED:20260322T160252Z
UID:4105-1778238000-1778256000@xn--kunstoghndvrk-wfbs.dk
SUMMARY:Maria
DESCRIPTION:
URL:https://xn--kunstoghndvrk-wfbs.dk/vagt/maria-8/
CATEGORIES:Vagter
END:VEVENT
BEGIN:VEVENT
DTSTART;TZID=Europe/Copenhagen:20260508T110000
DTEND;TZID=Europe/Copenhagen:20260508T160000
DTSTAMP:20260422T104907
CREATED:20260413T145259Z
LAST-MODIFIED:20260413T145259Z
UID:4191-1778238000-1778256000@xn--kunstoghndvrk-wfbs.dk
SUMMARY:leyla strik
DESCRIPTION:
URL:https://xn--kunstoghndvrk-wfbs.dk/vagt/leyla-strik-5/
CATEGORIES:Vagter
END:VEVENT
BEGIN:VEVENT
DTSTART;TZID=Europe/Copenhagen:20260509T110000
DTEND;TZID=Europe/Copenhagen:20260509T160000
DTSTAMP:20260422T104907
CREATED:20260323T092524Z
LAST-MODIFIED:20260323T092524Z
UID:4111-1778324400-1778342400@xn--kunstoghndvrk-wfbs.dk
SUMMARY:Vivi Hæklerier
DESCRIPTION:
URL:https://xn--kunstoghndvrk-wfbs.dk/vagt/vivi-haeklerier-9/
CATEGORIES:Vagter
END:VEVENT
BEGIN:VEVENT
DTSTART;TZID=Europe/Copenhagen:20260510T110000
DTEND;TZID=Europe/Copenhagen:20260510T160000
DTSTAMP:20260422T104907
CREATED:20260325T102244Z
LAST-MODIFIED:20260325T102244Z
UID:4124-1778410800-1778428800@xn--kunstoghndvrk-wfbs.dk
SUMMARY:GRETHE
DESCRIPTION:
URL:https://xn--kunstoghndvrk-wfbs.dk/vagt/grethe-6/
LOCATION:Kunst og Håndværk i Buerup\, Buerupvej 20\, Jyderup\, 4450\, Denmark
CATEGORIES:Vagter
END:VEVENT
BEGIN:VEVENT
DTSTART;TZID=Europe/Copenhagen:20260514T110000
DTEND;TZID=Europe/Copenhagen:20260514T160000
DTSTAMP:20260422T104907
CREATED:20260317T191040Z
LAST-MODIFIED:20260317T191339Z
UID:4081-1778756400-1778774400@xn--kunstoghndvrk-wfbs.dk
SUMMARY:Solveig-macrame
DESCRIPTION:
URL:https://xn--kunstoghndvrk-wfbs.dk/vagt/solveig-macrame-7/
CATEGORIES:Vagter
END:VEVENT
BEGIN:VEVENT
DTSTART;TZID=Europe/Copenhagen:20260515T110000
DTEND;TZID=Europe/Copenhagen:20260515T160000
DTSTAMP:20260422T104907
CREATED:20260323T092620Z
LAST-MODIFIED:20260323T092620Z
UID:4113-1778842800-1778860800@xn--kunstoghndvrk-wfbs.dk
SUMMARY:Vivi Hæklerier
DESCRIPTION:
URL:https://xn--kunstoghndvrk-wfbs.dk/vagt/vivi-haeklerier-10/
CATEGORIES:Vagter
END:VEVENT
BEGIN:VEVENT
DTSTART;TZID=Europe/Copenhagen:20260515T110000
DTEND;TZID=Europe/Copenhagen:20260515T160000
DTSTAMP:20260422T104907
CREATED:20260330T101405Z
LAST-MODIFIED:20260330T101443Z
UID:4150-1778842800-1778860800@xn--kunstoghndvrk-wfbs.dk
SUMMARY:Jytte
DESCRIPTION:
URL:https://xn--kunstoghndvrk-wfbs.dk/vagt/jytte/
LOCATION:Kunst og Håndværk i Buerup\, Buerupvej 20\, Jyderup\, 4450\, Denmark
CATEGORIES:Vagter
END:VEVENT
BEGIN:VEVENT
DTSTART;TZID=Europe/Copenhagen:20260516T110000
DTEND;TZID=Europe/Copenhagen:20260516T160000
DTSTAMP:20260422T104907
CREATED:20260214T123717Z
LAST-MODIFIED:20260214T123717Z
UID:3853-1778929200-1778947200@xn--kunstoghndvrk-wfbs.dk
SUMMARY:Kirsten Tøj
DESCRIPTION:
URL:https://xn--kunstoghndvrk-wfbs.dk/vagt/kirsten-toej-14/
CATEGORIES:Vagter
END:VEVENT
BEGIN:VEVENT
DTSTART;TZID=Europe/Copenhagen:20260516T110000
DTEND;TZID=Europe/Copenhagen:20260516T160000
DTSTAMP:20260422T104907
CREATED:20260313T171328Z
LAST-MODIFIED:20260313T171328Z
UID:4062-1778929200-1778947200@xn--kunstoghndvrk-wfbs.dk
SUMMARY:Maria
DESCRIPTION:
URL:https://xn--kunstoghndvrk-wfbs.dk/vagt/maria-14/
CATEGORIES:Vagter
END:VEVENT
BEGIN:VEVENT
DTSTART;TZID=Europe/Copenhagen:20260521T110000
DTEND;TZID=Europe/Copenhagen:20260521T160000
DTSTAMP:20260422T104907
CREATED:20260420T073320Z
LAST-MODIFIED:20260420T073320Z
UID:4209-1779361200-1779379200@xn--kunstoghndvrk-wfbs.dk
SUMMARY:Vivi  Hæklerier
DESCRIPTION:
URL:https://xn--kunstoghndvrk-wfbs.dk/vagt/vivi-haeklerier-14/
CATEGORIES:Vagter
END:VEVENT
BEGIN:VEVENT
DTSTART;TZID=Europe/Copenhagen:20260522T110000
DTEND;TZID=Europe/Copenhagen:20260522T160000
DTSTAMP:20260422T104907
CREATED:20260214T123812Z
LAST-MODIFIED:20260214T123812Z
UID:3855-1779447600-1779465600@xn--kunstoghndvrk-wfbs.dk
SUMMARY:Kirsten tøj
DESCRIPTION:
URL:https://xn--kunstoghndvrk-wfbs.dk/vagt/kirsten-toej-15/
CATEGORIES:Vagter
END:VEVENT
BEGIN:VEVENT
DTSTART;TZID=Europe/Copenhagen:20260522T110000
DTEND;TZID=Europe/Copenhagen:20260522T170000
DTSTAMP:20260422T104907
CREATED:20260328T103829Z
LAST-MODIFIED:20260328T103829Z
UID:4144-1779447600-1779469200@xn--kunstoghndvrk-wfbs.dk
SUMMARY:Maria
DESCRIPTION:
URL:https://xn--kunstoghndvrk-wfbs.dk/vagt/maria-16/
CATEGORIES:Vagter
END:VEVENT
BEGIN:VEVENT
DTSTART;TZID=Europe/Copenhagen:20260523T100000
DTEND;TZID=Europe/Copenhagen:20260523T160000
DTSTAMP:20260422T104907
CREATED:20260330T101800Z
LAST-MODIFIED:20260330T101800Z
UID:4154-1779530400-1779552000@xn--kunstoghndvrk-wfbs.dk
SUMMARY:Jytte
DESCRIPTION:
URL:https://xn--kunstoghndvrk-wfbs.dk/vagt/jytte-3/
LOCATION:Kunst og Håndværk i Buerup\, Buerupvej 20\, Jyderup\, 4450\, Denmark
CATEGORIES:Vagter
END:VEVENT
BEGIN:VEVENT
DTSTART;TZID=Europe/Copenhagen:20260523T110000
DTEND;TZID=Europe/Copenhagen:20260523T160000
DTSTAMP:20260422T104907
CREATED:20260330T130846Z
LAST-MODIFIED:20260330T131001Z
UID:4163-1779534000-1779552000@xn--kunstoghndvrk-wfbs.dk
SUMMARY:Solveig\, macrame
DESCRIPTION:
URL:https://xn--kunstoghndvrk-wfbs.dk/vagt/solveig-macrame-12/
CATEGORIES:Vagter
END:VEVENT
BEGIN:VEVENT
DTSTART;TZID=Europe/Copenhagen:20260524T110000
DTEND;TZID=Europe/Copenhagen:20260524T160000
DTSTAMP:20260422T104907
CREATED:20260330T131049Z
LAST-MODIFIED:20260330T131049Z
UID:4166-1779620400-1779638400@xn--kunstoghndvrk-wfbs.dk
SUMMARY:Solveig\, macrame
DESCRIPTION:
URL:https://xn--kunstoghndvrk-wfbs.dk/vagt/solveig-macrame-13/
CATEGORIES:Vagter
END:VEVENT
BEGIN:VEVENT
DTSTART;TZID=Europe/Copenhagen:20260525T100000
DTEND;TZID=Europe/Copenhagen:20260525T160000
DTSTAMP:20260422T104907
CREATED:20260309T093151Z
LAST-MODIFIED:20260309T093151Z
UID:4041-1779703200-1779724800@xn--kunstoghndvrk-wfbs.dk
SUMMARY:grethe
DESCRIPTION:
URL:https://xn--kunstoghndvrk-wfbs.dk/vagt/grethe-8/
LOCATION:Kunst og Håndværk i Buerup\, Buerupvej 20\, Jyderup\, 4450\, Denmark
CATEGORIES:Vagter
END:VEVENT
BEGIN:VEVENT
DTSTART;TZID=Europe/Copenhagen:20260525T100000
DTEND;TZID=Europe/Copenhagen:20260525T160000
DTSTAMP:20260422T104907
CREATED:20260330T102000Z
LAST-MODIFIED:20260330T102000Z
UID:4156-1779703200-1779724800@xn--kunstoghndvrk-wfbs.dk
SUMMARY:Jytte
DESCRIPTION:
URL:https://xn--kunstoghndvrk-wfbs.dk/vagt/jytte-4/
LOCATION:Kunst og Håndværk i Buerup\, Buerupvej 20\, Jyderup\, 4450\, Denmark
CATEGORIES:Vagter
END:VEVENT
BEGIN:VEVENT
DTSTART;TZID=Europe/Copenhagen:20260528T100000
DTEND;TZID=Europe/Copenhagen:20260528T160000
DTSTAMP:20260422T104907
CREATED:20260413T144115Z
LAST-MODIFIED:20260413T144239Z
UID:4188-1779962400-1779984000@xn--kunstoghndvrk-wfbs.dk
SUMMARY:Leyla strik.
DESCRIPTION:
URL:https://xn--kunstoghndvrk-wfbs.dk/vagt/leyla-strik-3/
CATEGORIES:Vagter
END:VEVENT
BEGIN:VEVENT
DTSTART;TZID=Europe/Copenhagen:20260528T110000
DTEND;TZID=Europe/Copenhagen:20260528T160000
DTSTAMP:20260422T104907
CREATED:20260330T102137Z
LAST-MODIFIED:20260330T102137Z
UID:4158-1779966000-1779984000@xn--kunstoghndvrk-wfbs.dk
SUMMARY:Jytte
DESCRIPTION:
URL:https://xn--kunstoghndvrk-wfbs.dk/vagt/jytte-5/
LOCATION:Kunst og Håndværk i Buerup\, Buerupvej 20\, Jyderup\, 4450\, Denmark
CATEGORIES:Vagter
END:VEVENT
BEGIN:VEVENT
DTSTART;TZID=Europe/Copenhagen:20260529T110000
DTEND;TZID=Europe/Copenhagen:20260529T160000
DTSTAMP:20260422T104907
CREATED:20260309T093235Z
LAST-MODIFIED:20260309T093235Z
UID:4043-1780052400-1780070400@xn--kunstoghndvrk-wfbs.dk
SUMMARY:grethe
DESCRIPTION:
URL:https://xn--kunstoghndvrk-wfbs.dk/vagt/grethe-12/
LOCATION:Kunst og Håndværk i Buerup\, Buerupvej 20\, Jyderup\, 4450\, Denmark
CATEGORIES:Vagter
END:VEVENT
BEGIN:VEVENT
DTSTART;TZID=Europe/Copenhagen:20260529T110000
DTEND;TZID=Europe/Copenhagen:20260529T160000
DTSTAMP:20260422T104907
CREATED:20260317T191522Z
LAST-MODIFIED:20260317T191522Z
UID:4087-1780052400-1780070400@xn--kunstoghndvrk-wfbs.dk
SUMMARY:Solveig-Macrame
DESCRIPTION:
URL:https://xn--kunstoghndvrk-wfbs.dk/vagt/solveig-macrame-10/
CATEGORIES:Vagter
END:VEVENT
BEGIN:VEVENT
DTSTART;TZID=Europe/Copenhagen:20260530T110000
DTEND;TZID=Europe/Copenhagen:20260530T160000
DTSTAMP:20260422T104907
CREATED:20260313T171451Z
LAST-MODIFIED:20260313T171451Z
UID:4066-1780138800-1780156800@xn--kunstoghndvrk-wfbs.dk
SUMMARY:Maria
DESCRIPTION:
URL:https://xn--kunstoghndvrk-wfbs.dk/vagt/maria-15/
CATEGORIES:Vagter
END:VEVENT
BEGIN:VEVENT
DTSTART;TZID=Europe/Copenhagen:20260530T110000
DTEND;TZID=Europe/Copenhagen:20260530T160000
DTSTAMP:20260422T104907
CREATED:20260323T093616Z
LAST-MODIFIED:20260323T093616Z
UID:4118-1780138800-1780156800@xn--kunstoghndvrk-wfbs.dk
SUMMARY:Vivi Hæklerier
DESCRIPTION:
URL:https://xn--kunstoghndvrk-wfbs.dk/vagt/vivi-haeklerier-11/
CATEGORIES:Vagter
END:VEVENT
BEGIN:VEVENT
DTSTART;TZID=Europe/Copenhagen:20260531T110000
DTEND;TZID=Europe/Copenhagen:20260531T160000
DTSTAMP:20260422T104907
CREATED:20260214T123902Z
LAST-MODIFIED:20260214T123902Z
UID:3857-1780225200-1780243200@xn--kunstoghndvrk-wfbs.dk
SUMMARY:Kirsten tøj
DESCRIPTION:
URL:https://xn--kunstoghndvrk-wfbs.dk/vagt/kirsten-toej-16/
CATEGORIES:Vagter
END:VEVENT
END:VCALENDAR