BEGIN:VCALENDAR
VERSION:2.0
PRODID:-//Kunst og Håndværk i Buerup - ECPv6.15.17//NONSGML v1.0//EN
CALSCALE:GREGORIAN
METHOD:PUBLISH
X-ORIGINAL-URL:https://xn--kunstoghndvrk-wfbs.dk
X-WR-CALDESC:Begivenheder for Kunst og Håndværk i Buerup
REFRESH-INTERVAL;VALUE=DURATION:PT1H
X-Robots-Tag:noindex
X-PUBLISHED-TTL:PT1H
BEGIN:VTIMEZONE
TZID:Europe/Copenhagen
BEGIN:DAYLIGHT
TZOFFSETFROM:+0100
TZOFFSETTO:+0200
TZNAME:CEST
DTSTART:20250330T010000
END:DAYLIGHT
BEGIN:STANDARD
TZOFFSETFROM:+0200
TZOFFSETTO:+0100
TZNAME:CET
DTSTART:20251026T010000
END:STANDARD
BEGIN:DAYLIGHT
TZOFFSETFROM:+0100
TZOFFSETTO:+0200
TZNAME:CEST
DTSTART:20260329T010000
END:DAYLIGHT
BEGIN:STANDARD
TZOFFSETFROM:+0200
TZOFFSETTO:+0100
TZNAME:CET
DTSTART:20261025T010000
END:STANDARD
BEGIN:DAYLIGHT
TZOFFSETFROM:+0100
TZOFFSETTO:+0200
TZNAME:CEST
DTSTART:20270328T010000
END:DAYLIGHT
BEGIN:STANDARD
TZOFFSETFROM:+0200
TZOFFSETTO:+0100
TZNAME:CET
DTSTART:20271031T010000
END:STANDARD
END:VTIMEZONE
BEGIN:VEVENT
DTSTART;TZID=Europe/Copenhagen:20260523T100000
DTEND;TZID=Europe/Copenhagen:20260523T160000
DTSTAMP:20260421T133014
CREATED:20260224T141043Z
LAST-MODIFIED:20260224T141043Z
UID:3936-1779530400-1779552000@xn--kunstoghndvrk-wfbs.dk
SUMMARY:Kunst i Pinsen kl. 10-16
DESCRIPTION:
URL:https://xn--kunstoghndvrk-wfbs.dk/vagt/kunst-i-pinsen-kl-10-16/
CATEGORIES:Arrangementer
END:VEVENT
BEGIN:VEVENT
DTSTART;TZID=Europe/Copenhagen:20260524T100000
DTEND;TZID=Europe/Copenhagen:20260524T160000
DTSTAMP:20260421T133014
CREATED:20260127T131246Z
LAST-MODIFIED:20260224T141315Z
UID:3671-1779616800-1779638400@xn--kunstoghndvrk-wfbs.dk
SUMMARY:Pinsedag\, Kunst i Pinsen Kl. 10-16
DESCRIPTION:
URL:https://xn--kunstoghndvrk-wfbs.dk/vagt/pinsedag/
CATEGORIES:Arrangementer
END:VEVENT
BEGIN:VEVENT
DTSTART;TZID=Europe/Copenhagen:20260525T100000
DTEND;TZID=Europe/Copenhagen:20260525T160000
DTSTAMP:20260421T133014
CREATED:20260127T131406Z
LAST-MODIFIED:20260224T141408Z
UID:3673-1779703200-1779724800@xn--kunstoghndvrk-wfbs.dk
SUMMARY:2. pinsedag\, Kunst i Pinsen Kl. 10-16
DESCRIPTION:
URL:https://xn--kunstoghndvrk-wfbs.dk/vagt/2-pinsedag/
CATEGORIES:Arrangementer
END:VEVENT
END:VCALENDAR