BEGIN:VCALENDAR
VERSION:2.0
PRODID:-//Kunst og Håndværk i Buerup - ECPv6.15.17//NONSGML v1.0//EN
CALSCALE:GREGORIAN
METHOD:PUBLISH
X-WR-CALNAME:Kunst og Håndværk i Buerup
X-ORIGINAL-URL:https://xn--kunstoghndvrk-wfbs.dk
X-WR-CALDESC:Begivenheder for Kunst og Håndværk i Buerup
REFRESH-INTERVAL;VALUE=DURATION:PT1H
X-Robots-Tag:noindex
X-PUBLISHED-TTL:PT1H
BEGIN:VTIMEZONE
TZID:Europe/Copenhagen
BEGIN:DAYLIGHT
TZOFFSETFROM:+0100
TZOFFSETTO:+0200
TZNAME:CEST
DTSTART:20250330T010000
END:DAYLIGHT
BEGIN:STANDARD
TZOFFSETFROM:+0200
TZOFFSETTO:+0100
TZNAME:CET
DTSTART:20251026T010000
END:STANDARD
BEGIN:DAYLIGHT
TZOFFSETFROM:+0100
TZOFFSETTO:+0200
TZNAME:CEST
DTSTART:20260329T010000
END:DAYLIGHT
BEGIN:STANDARD
TZOFFSETFROM:+0200
TZOFFSETTO:+0100
TZNAME:CET
DTSTART:20261025T010000
END:STANDARD
BEGIN:DAYLIGHT
TZOFFSETFROM:+0100
TZOFFSETTO:+0200
TZNAME:CEST
DTSTART:20270328T010000
END:DAYLIGHT
BEGIN:STANDARD
TZOFFSETFROM:+0200
TZOFFSETTO:+0100
TZNAME:CET
DTSTART:20271031T010000
END:STANDARD
END:VTIMEZONE
BEGIN:VEVENT
DTSTART;TZID=Europe/Copenhagen:20260417T110000
DTEND;TZID=Europe/Copenhagen:20260417T160000
DTSTAMP:20260421T103232
CREATED:20260330T101235Z
LAST-MODIFIED:20260330T101243Z
UID:4148-1776423600-1776441600@xn--kunstoghndvrk-wfbs.dk
SUMMARY:Jytte for Maria
DESCRIPTION:
URL:https://xn--kunstoghndvrk-wfbs.dk/vagt/jytte-for-maria/
LOCATION:Kunst og Håndværk i Buerup\, Buerupvej 20\, Jyderup\, 4450\, Denmark
CATEGORIES:Vagter
END:VEVENT
BEGIN:VEVENT
DTSTART;TZID=Europe/Copenhagen:20260417T110000
DTEND;TZID=Europe/Copenhagen:20260417T170000
DTSTAMP:20260421T103232
CREATED:20260226T120350Z
LAST-MODIFIED:20260226T120350Z
UID:3954-1776423600-1776445200@xn--kunstoghndvrk-wfbs.dk
SUMMARY:Maria
DESCRIPTION:
URL:https://xn--kunstoghndvrk-wfbs.dk/vagt/maria-5/
CATEGORIES:Vagter
END:VEVENT
END:VCALENDAR